BEGIN:VCALENDAR
VERSION:2.0
PRODID:-//Luxemburg Chamber of Commerce - ECPv6.15.11//NONSGML v1.0//EN
CALSCALE:GREGORIAN
METHOD:PUBLISH
X-ORIGINAL-URL:https://luxemburgchamber.com
X-WR-CALDESC:Events for Luxemburg Chamber of Commerce
REFRESH-INTERVAL;VALUE=DURATION:PT1H
X-Robots-Tag:noindex
X-PUBLISHED-TTL:PT1H
BEGIN:VTIMEZONE
TZID:America/Chicago
BEGIN:DAYLIGHT
TZOFFSETFROM:-0600
TZOFFSETTO:-0500
TZNAME:CDT
DTSTART:20240310T080000
END:DAYLIGHT
BEGIN:STANDARD
TZOFFSETFROM:-0500
TZOFFSETTO:-0600
TZNAME:CST
DTSTART:20241103T070000
END:STANDARD
BEGIN:DAYLIGHT
TZOFFSETFROM:-0600
TZOFFSETTO:-0500
TZNAME:CDT
DTSTART:20250309T080000
END:DAYLIGHT
BEGIN:STANDARD
TZOFFSETFROM:-0500
TZOFFSETTO:-0600
TZNAME:CST
DTSTART:20251102T070000
END:STANDARD
BEGIN:DAYLIGHT
TZOFFSETFROM:-0600
TZOFFSETTO:-0500
TZNAME:CDT
DTSTART:20260308T080000
END:DAYLIGHT
BEGIN:STANDARD
TZOFFSETFROM:-0500
TZOFFSETTO:-0600
TZNAME:CST
DTSTART:20261101T070000
END:STANDARD
END:VTIMEZONE
BEGIN:VEVENT
DTSTART;TZID=America/Chicago:20251205T160000
DTEND;TZID=America/Chicago:20251205T190000
DTSTAMP:20260423T191945
CREATED:20230623T185933Z
LAST-MODIFIED:20251112T215042Z
UID:224-1764950400-1764961200@luxemburgchamber.com
SUMMARY:Santa's Visit 2025
DESCRIPTION:Bring the kids and meet Santa Claus!  Santa and Mrs. Claus will arrive at the Luxemburg Community Center at 4:00pm on Friday\, December 5th. Families can enjoy horse and wagon rides as well as a variety of treats such as hot cider\, cocoa\, cookies and more! \nMusic: \nOur L-C Intermediate School Choir & Band will perform from 4:00pm – 4:30pm\nOur L-C High School Choir will perform from 4:45pm – 5:25pm \nCost: \nThis event is free\, though we ask that you bring a non-perishable food donation for our local food pantry. \nVolunteer: \nWant to help Santa spread joy in Luxemburg?  We will need volunteers to help set up for Santa’s Visit\, keep treats filled\, and tidy up the gym afterward.  Contact us today if you’re interested in helping out: \nPlease enable JavaScript in your browser to complete this form.Please enable JavaScript in your browser to complete this form.Name *FirstLastEmail *		\n			Topic or Email\n			\n		\n		TopicComment or MessageSubmit
URL:https://luxemburgchamber.com/event/santas-visit/
LOCATION:Luxemburg Village Clerk\, 206 Maple St\, Luxemburg\, WI\, 54217\, United States
CATEGORIES:Local Gatherings
END:VEVENT
BEGIN:VEVENT
DTSTART;TZID=America/Chicago:20251206T180000
DTEND;TZID=America/Chicago:20251206T210000
DTSTAMP:20260423T191945
CREATED:20230623T190205Z
LAST-MODIFIED:20251119T200045Z
UID:228-1765044000-1765054800@luxemburgchamber.com
SUMMARY:Annual Chamber Christmas Award Party
DESCRIPTION:This award dinner is open to the public and all are encouraged to attend and celebrate our annual award winners. Social hour begins at 6:00pm\, with the dinner and award program beginning at 7:00pm. \nPurchasing Tickets: \nThe public is invited to attend\, and tickets are available at Bank of Luxemburg\, Nicolet Bank\, and Stodola’s IGA.  All are encouraged to dress their best\, and bring a guest! \n2025 Award Winners: \n\nSpartan Spirit Award –  Tim Fameree\nCommunity Service Award – Renee Ebert\nPerson of the Year – Karen Mleziva\n\n2024 Award Winners: \n\nSpartan Spirit Award – Fran Charles\nCommunity Service Award – Jenny Salentine\nPerson of the Year – Debby Liebeck
URL:https://luxemburgchamber.com/event/annual-chamber-christmas-award-party/
LOCATION:Northbrook Golf & Grill\, 407 Northbrook Rd\, Luxemburg\, WI\, 54217\, United States
CATEGORIES:Local Gatherings,Schedule of Events
ATTACH;FMTTYPE=image/png:https://luxemburgchamber.com/wp-content/uploads/2023/06/northbrook-logo.png
END:VEVENT
END:VCALENDAR