BEGIN:VCALENDAR
VERSION:2.0
PRODID:-//Luxemburg Chamber of Commerce - ECPv6.15.11//NONSGML v1.0//EN
CALSCALE:GREGORIAN
METHOD:PUBLISH
X-WR-CALNAME:Luxemburg Chamber of Commerce
X-ORIGINAL-URL:https://luxemburgchamber.com
X-WR-CALDESC:Events for Luxemburg Chamber of Commerce
REFRESH-INTERVAL;VALUE=DURATION:PT1H
X-Robots-Tag:noindex
X-PUBLISHED-TTL:PT1H
BEGIN:VTIMEZONE
TZID:America/Chicago
BEGIN:DAYLIGHT
TZOFFSETFROM:-0600
TZOFFSETTO:-0500
TZNAME:CDT
DTSTART:20240310T080000
END:DAYLIGHT
BEGIN:STANDARD
TZOFFSETFROM:-0500
TZOFFSETTO:-0600
TZNAME:CST
DTSTART:20241103T070000
END:STANDARD
BEGIN:DAYLIGHT
TZOFFSETFROM:-0600
TZOFFSETTO:-0500
TZNAME:CDT
DTSTART:20250309T080000
END:DAYLIGHT
BEGIN:STANDARD
TZOFFSETFROM:-0500
TZOFFSETTO:-0600
TZNAME:CST
DTSTART:20251102T070000
END:STANDARD
BEGIN:DAYLIGHT
TZOFFSETFROM:-0600
TZOFFSETTO:-0500
TZNAME:CDT
DTSTART:20260308T080000
END:DAYLIGHT
BEGIN:STANDARD
TZOFFSETFROM:-0500
TZOFFSETTO:-0600
TZNAME:CST
DTSTART:20261101T070000
END:STANDARD
END:VTIMEZONE
BEGIN:VEVENT
DTSTART;TZID=America/Chicago:20250429T170000
DTEND;TZID=America/Chicago:20250429T180000
DTSTAMP:20260424T053314
CREATED:20231227T232226Z
LAST-MODIFIED:20250420T161703Z
UID:1130-1745946000-1745949600@luxemburgchamber.com
SUMMARY:April 2025 Business Tour - Quali T Inc. Branding Solutions
DESCRIPTION:This tour is open to members of the Luxemburg Chamber of Commerce.  Learn all about Quali T and the solutions they can provide for your business as they celebrate 35 years right here in Luxemburg! \nLearn more: https://qualitinc.espwebsite.com/ \nCost: \nThis tour is free.  However\, please RSVP by Monday\, April 21st by contacting the Chamber Secretary or Quali T.
URL:https://luxemburgchamber.com/event/april-2025-business-tour/
LOCATION:Quali T Branding Solutions\, 513 Center Drive\, Luxemburg\, 54217\, United States
CATEGORIES:Local Gatherings,Schedule of Events
ATTACH;FMTTYPE=image/jpeg:https://luxemburgchamber.com/wp-content/uploads/2023/12/QT_logo.jpg
END:VEVENT
END:VCALENDAR