BEGIN:VCALENDAR
VERSION:2.0
PRODID:-//Luxemburg Chamber of Commerce - ECPv6.15.11//NONSGML v1.0//EN
CALSCALE:GREGORIAN
METHOD:PUBLISH
X-WR-CALNAME:Luxemburg Chamber of Commerce
X-ORIGINAL-URL:https://luxemburgchamber.com
X-WR-CALDESC:Events for Luxemburg Chamber of Commerce
REFRESH-INTERVAL;VALUE=DURATION:PT1H
X-Robots-Tag:noindex
X-PUBLISHED-TTL:PT1H
BEGIN:VTIMEZONE
TZID:America/Chicago
BEGIN:DAYLIGHT
TZOFFSETFROM:-0600
TZOFFSETTO:-0500
TZNAME:CDT
DTSTART:20240310T080000
END:DAYLIGHT
BEGIN:STANDARD
TZOFFSETFROM:-0500
TZOFFSETTO:-0600
TZNAME:CST
DTSTART:20241103T070000
END:STANDARD
BEGIN:DAYLIGHT
TZOFFSETFROM:-0600
TZOFFSETTO:-0500
TZNAME:CDT
DTSTART:20250309T080000
END:DAYLIGHT
BEGIN:STANDARD
TZOFFSETFROM:-0500
TZOFFSETTO:-0600
TZNAME:CST
DTSTART:20251102T070000
END:STANDARD
BEGIN:DAYLIGHT
TZOFFSETFROM:-0600
TZOFFSETTO:-0500
TZNAME:CDT
DTSTART:20260308T080000
END:DAYLIGHT
BEGIN:STANDARD
TZOFFSETFROM:-0500
TZOFFSETTO:-0600
TZNAME:CST
DTSTART:20261101T070000
END:STANDARD
END:VTIMEZONE
BEGIN:VEVENT
DTSTART;TZID=America/Chicago:20250708T180000
DTEND;TZID=America/Chicago:20250708T200000
DTSTAMP:20260424T030136
CREATED:20230623T181802Z
LAST-MODIFIED:20250702T164201Z
UID:203-1751997600-1752004800@luxemburgchamber.com
SUMMARY:Kewaunee County Fair Kick-off Dinner 2025
DESCRIPTION:  \nKick off the 2025 Kewaunee County Fair! \nSocial – 6pm\nDinner – 7pm\nProgram – ~7:30pm \nTickets are $15 and available NOW for the Fair Kickoff Dinner! Stop by Bank of Luxemburg\, Nicolet Bank\, or Stodola’s IGA to purchase your tickets! \nThe event is held at the Kewaunee County Fairgrounds in the Midway Building.  There will be brief presentations by the Luxemburg Chamber\, awarding our fundraising partners for the Dairy Days Dash and the Annual Golf Outing.  You will also hear from the Kewaunee County Fair Board and the Fairest of the Fair!
URL:https://luxemburgchamber.com/event/kewaunee-county-fair-kick-off-dinner/
LOCATION:Kewaunee County Fairgrounds\, 213 Elm St\, Luxemburg\, WI\, 54217\, United States
CATEGORIES:Kewaunee County Fair,Local Gatherings
ATTACH;FMTTYPE=image/jpeg:https://luxemburgchamber.com/wp-content/uploads/2023/06/504268031_1156998759798818_80330307266179735_n.jpg
END:VEVENT
END:VCALENDAR