BEGIN:VCALENDAR
VERSION:2.0
PRODID:-//Luxemburg Chamber of Commerce - ECPv6.15.11//NONSGML v1.0//EN
CALSCALE:GREGORIAN
METHOD:PUBLISH
X-WR-CALNAME:Luxemburg Chamber of Commerce
X-ORIGINAL-URL:https://luxemburgchamber.com
X-WR-CALDESC:Events for Luxemburg Chamber of Commerce
REFRESH-INTERVAL;VALUE=DURATION:PT1H
X-Robots-Tag:noindex
X-PUBLISHED-TTL:PT1H
BEGIN:VTIMEZONE
TZID:America/Chicago
BEGIN:DAYLIGHT
TZOFFSETFROM:-0600
TZOFFSETTO:-0500
TZNAME:CDT
DTSTART:20250309T080000
END:DAYLIGHT
BEGIN:STANDARD
TZOFFSETFROM:-0500
TZOFFSETTO:-0600
TZNAME:CST
DTSTART:20251102T070000
END:STANDARD
BEGIN:DAYLIGHT
TZOFFSETFROM:-0600
TZOFFSETTO:-0500
TZNAME:CDT
DTSTART:20260308T080000
END:DAYLIGHT
BEGIN:STANDARD
TZOFFSETFROM:-0500
TZOFFSETTO:-0600
TZNAME:CST
DTSTART:20261101T070000
END:STANDARD
BEGIN:DAYLIGHT
TZOFFSETFROM:-0600
TZOFFSETTO:-0500
TZNAME:CDT
DTSTART:20270314T080000
END:DAYLIGHT
BEGIN:STANDARD
TZOFFSETFROM:-0500
TZOFFSETTO:-0600
TZNAME:CST
DTSTART:20271107T070000
END:STANDARD
END:VTIMEZONE
BEGIN:VEVENT
DTSTART;TZID=America/Chicago:20260515T080000
DTEND;TZID=America/Chicago:20260516T160000
DTSTAMP:20260423T181040
CREATED:20230906T190149Z
LAST-MODIFIED:20260326T213435Z
UID:589-1778832000-1778947200@luxemburgchamber.com
SUMMARY:Rummage Sale 2026
DESCRIPTION:This year’s sale is scheduled for May 15 & 16\, 2026! \nRegistration is now available!  Put your sale on the map: \nRummage Sale Form 2026This form collects information needed from community members to publish their rummage sale in our print and digital ads.  It collects payments via card.Please enable JavaScript in your browser to complete this form.Please enable JavaScript in your browser to complete this form.Name *FirstLastRummage Sale Address ( We will use Google Maps to plot the map - if your address does not appear properly on Google Maps\, please contact us.) *Address Line 1Address Line 2CityAlabamaAlaskaArizonaArkansasCaliforniaColoradoConnecticutDelawareDistrict of ColumbiaFloridaGeorgiaHawaiiIdahoIllinoisIndianaIowaKansasKentuckyLouisianaMaineMarylandMassachusettsMichiganMinnesotaMississippiMissouriMontanaNebraskaNevadaNew HampshireNew JerseyNew MexicoNew YorkNorth CarolinaNorth DakotaOhioOklahomaOregonPennsylvaniaRhode IslandSouth CarolinaSouth DakotaTennesseeTexasUtahVermontVirginiaWashingtonWest VirginiaWisconsinWyomingStateZip CodeThe address of your sale - not necessarily your home address.Phone *This will not be published\, we will only use it to contact you if necessary.Email *Brief description of items for sale:  *Please limit your description to about 30 words or about 200 letters.  We reserve the right to abbreviate or condense descriptions to fit on our printed map.\nHours of operation are listed separately below.Hours of Operation: *Please list the hours you plan to be open - this will be listed along with your sale address.  Standard hours for the sale are Friday: 7am - 4pm & Saturday: 7am - 4pm.Disclaimer:  The Luxemburg Area Chamber of Commerce makes every effort\, with your assistance\, to aggregate and distribute accurate maps and listings for the Annual Rummage Sale in print through local businesses and online.  We are responsible for advertising the event through social media\, posting on local message boards\, and placing ads in the local newspaper.   However\, the Luxemburg Area Chamber of Commerce is not responsible for events that may impact travel or parking near your location\, such as construction or other organizations’ activities.  We are not responsible for products sold or purchased at any given rummage sale.  We are not responsible for any foodstuffs consumed from any given rummage sale or cookout.  *You must agree to the disclaimer above to continue.I AgreeI DisagreeThe disclaimer above lists what the Chamber does and does not do for this event.Registration Fee *Price: $15.00This fee covers the printing and distribution costs associated with the Rummage Sale 2026 Maps\, posters\, advertising on social media\, and advertising in the Kewaunee County Star News.3% Transaction Fee *Price: $0.00This fee covers the cost of processing online payments.Payment *Submit
URL:https://luxemburgchamber.com/event/rummage-sale/
LOCATION:WI
CATEGORIES:Rummage Sale
ATTACH;FMTTYPE=image/png:https://luxemburgchamber.com/wp-content/uploads/2023/06/Rummage-Sale-Event-2025-1.png
END:VEVENT
BEGIN:VEVENT
DTSTART;TZID=America/Chicago:20260601T103000
DTEND;TZID=America/Chicago:20260601T170000
DTSTAMP:20260423T181040
CREATED:20240519T152521Z
LAST-MODIFIED:20260423T142308Z
UID:1804-1780309800-1780333200@luxemburgchamber.com
SUMMARY:Golf Outing 2026
DESCRIPTION:Our annual golf outing is at Northbrook Golf & Grill. This year’s event is on Monday\, June 1st with check-in at 10:30am and shotgun start at 11:30am.  Sign up today: \n21st Annual Chamber Golf OutingSign up for the 2026 Golf Outing at Northbrook Golf & Grill!  This event is on Monday\, June 1st.  Check-in will be at 10:30am\, Shotgun start at 11:30am.  \n\nDon't delay; Registration is due by Monday\, May 25th\, 2026.Please enable JavaScript in your browser to complete this form.Please enable JavaScript in your browser to complete this form.Name *FirstLastContact Phone *BusinessEmail *How many players are attending? ($125 each) *Select amountNoneOneTwoThreeFourFirst PlayerFirstLastSecond PlayerFirstLastThird PlayerFirstLastFourth PlayerFirstLastWould you like to be a Hole Sponsor? ($100)YesNoThis fee includes business signage at the hole.  We will use the business name you have provided above.Each player's meal is included in registration.  How many additional DINNER ONLY tickets would you like? ($25 each)Select amount012345678910Would you like to donate a prize or cash for the raffle?YesNo(Donations can be dropped off at Northbrook Golf & Grill located at 630 Main St\, Luxemburg. To arrange pick up\, please contact Karen at (920) 845-2382 ext. 5. Please provide prizes within one week of the event.)\n3% Credit Card FeePrice: $0.00Total\n	\n		Order Summary\n		\n			\n				Item\n				\n					Quantity\n					Qty\n				\n				Total\n			\n		\n		\n			\n				There are no products selected.\n			\n			How many players are attending? ($125 each) - None1$0.00How many players are attending? ($125 each) - One1$125.00How many players are attending? ($125 each) - Two1$250.00How many players are attending? ($125 each) - Three1$375.00How many players are attending? ($125 each) - Four1$500.00Would you like to be a Hole Sponsor? ($100) - Yes1$100.00Would you like to be a Hole Sponsor? ($100) - No1$0.00Each player's meal is included in registration.  How many additional DINNER ONLY tickets would you like? ($25 each) - Item 121$0.00Each player's meal is included in registration.  How many additional DINNER ONLY tickets would you like? ($25 each) - 11$25.00Each player's meal is included in registration.  How many additional DINNER ONLY tickets would you like? ($25 each) - 21$50.00Each player's meal is included in registration.  How many additional DINNER ONLY tickets would you like? ($25 each) - 31$75.00Each player's meal is included in registration.  How many additional DINNER ONLY tickets would you like? ($25 each) - 41$100.00Each player's meal is included in registration.  How many additional DINNER ONLY tickets would you like? ($25 each) - 51$125.00Each player's meal is included in registration.  How many additional DINNER ONLY tickets would you like? ($25 each) - 61$150.00Each player's meal is included in registration.  How many additional DINNER ONLY tickets would you like? ($25 each) - 71$175.00Each player's meal is included in registration.  How many additional DINNER ONLY tickets would you like? ($25 each) - 81$200.00Each player's meal is included in registration.  How many additional DINNER ONLY tickets would you like? ($25 each) - 91$225.00Each player's meal is included in registration.  How many additional DINNER ONLY tickets would you like? ($25 each) - 101$250.003% Credit Card Fee1$0.00Total$0.00		\n	\n\n$0.00Credit Card *Submit
URL:https://luxemburgchamber.com/event/golf-outing/
LOCATION:Northbrook Golf & Grill\, 407 Northbrook Rd\, Luxemburg\, WI\, 54217\, United States
CATEGORIES:Golf Outing
ATTACH;FMTTYPE=image/jpeg:https://luxemburgchamber.com/wp-content/uploads/2023/12/5bd32515-68b4-4f41-a408-02bdd04e1eb4-e1703707214933.jpg
END:VEVENT
BEGIN:VEVENT
DTSTART;TZID=America/Chicago:20260606T070000
DTEND;TZID=America/Chicago:20260606T120000
DTSTAMP:20260423T181041
CREATED:20230906T184055Z
LAST-MODIFIED:20260326T190426Z
UID:578-1780729200-1780747200@luxemburgchamber.com
SUMMARY:Dairy Days Dash 2026
DESCRIPTION:Our 18th Dairy Days Dash 5K Run / Walk will be on Saturday\, June 6th!   \n\n\n\nThe 5K Course: Begins at the Luxemburg Community Center & will go south through the Village. The runners will then head back down Main Street & will finish at the Luxemburg Community Center. Strollers & wheelchairs welcome. No pets please. \n\n\n\nPerks/Prizes: Awards to the top 3 male & female finishers in each age bracket • t-shirt • free food\, ice cream & drinks after the dash \n\n\n\nPre-Registration & Packet Pick-up: Friday\, June 5 at the Luxemburg Community Center gym (206 Maple Street\, Luxemburg\, WI US 54217) from 3:30-5:30 p.m. \n\n\n\nOnline registration: https://runsignup.com/Race/WI/Luxemburg/JuneDairyRun \n\n\n\nPrint registration: Download our form. \n\n\n\nRace Day: Register in-person at the Luxemburg Community Center gym from 6:30-7:45 a.m. \n\n\n\nFee: Through May 17\, $20 per person/$60 per family (up to 4.) After May 17 & on race day\, $25 per person/$75 per family (up to 4.)
URL:https://luxemburgchamber.com/event/dairy-days-dash/
LOCATION:Luxemburg Community Center\, 206 Maple St\, Luxemburg\, WI\, 54217\, United States
CATEGORIES:Dairy Days Dash
ATTACH;FMTTYPE=image/jpeg:https://luxemburgchamber.com/wp-content/uploads/2026/03/651900956_1367576318741451_7503249900179400134_n.jpg
END:VEVENT
END:VCALENDAR