BEGIN:VCALENDAR
VERSION:2.0
PRODID:-//Luxemburg Chamber of Commerce - ECPv6.15.11//NONSGML v1.0//EN
CALSCALE:GREGORIAN
METHOD:PUBLISH
X-WR-CALNAME:Luxemburg Chamber of Commerce
X-ORIGINAL-URL:https://luxemburgchamber.com
X-WR-CALDESC:Events for Luxemburg Chamber of Commerce
REFRESH-INTERVAL;VALUE=DURATION:PT1H
X-Robots-Tag:noindex
X-PUBLISHED-TTL:PT1H
BEGIN:VTIMEZONE
TZID:America/Chicago
BEGIN:DAYLIGHT
TZOFFSETFROM:-0600
TZOFFSETTO:-0500
TZNAME:CDT
DTSTART:20240310T080000
END:DAYLIGHT
BEGIN:STANDARD
TZOFFSETFROM:-0500
TZOFFSETTO:-0600
TZNAME:CST
DTSTART:20241103T070000
END:STANDARD
BEGIN:DAYLIGHT
TZOFFSETFROM:-0600
TZOFFSETTO:-0500
TZNAME:CDT
DTSTART:20250309T080000
END:DAYLIGHT
BEGIN:STANDARD
TZOFFSETFROM:-0500
TZOFFSETTO:-0600
TZNAME:CST
DTSTART:20251102T070000
END:STANDARD
BEGIN:DAYLIGHT
TZOFFSETFROM:-0600
TZOFFSETTO:-0500
TZNAME:CDT
DTSTART:20260308T080000
END:DAYLIGHT
BEGIN:STANDARD
TZOFFSETFROM:-0500
TZOFFSETTO:-0600
TZNAME:CST
DTSTART:20261101T070000
END:STANDARD
END:VTIMEZONE
BEGIN:VEVENT
DTSTART;TZID=America/Chicago:20250329T140000
DTEND;TZID=America/Chicago:20250329T180000
DTSTAMP:20260423T182439
CREATED:20250203T151133Z
LAST-MODIFIED:20250203T152225Z
UID:2408-1743256800-1743271200@luxemburgchamber.com
SUMMARY:Roar off the Shore 2025
DESCRIPTION:Roar Off The Shore Brewfest is a beer\, wine & food tasting event hosted by the Dyckesville Lions & Kewaunee Lions Clubs. This is our largest fundraiser for each club which we use the funds to help our local communities.\n\nRoar Off The Shore Brewfest is on Saturday\, March 29\, 2025\, from 2 – 6 PM at the Kewaunee County Fairgrounds 625 3rd St. Luxemburg\, WI.\n\nYour ticket get you a free commemorative tasting glass\, and beer\, wine\, and food samples all afternoon.\n\nEarly-bird tickets are available online only for $45 through January 14\, 2025.\n\nDesignated Driver tickets are $25 each and a DD gets soda\, water and food samples all afternoon.\n\n$10 bus tickets are also on sale (bus tickets must be purchased online). See ticket website for departure locations and times.\n\n$50 Advanced sale tickets go on sale January 15\, 2025\, online and in person at: Van’s Lumber & Custom Builders Inc. in Dyckesville\, Bluewater Services Ltd in Kewaunee\, and all Bank of Luxemburg locations. Tickets at the door will be $55.\n\nThis event supports the many community projects by event hosts\, the Kewaunee Lions Club and the Dyckesville Lions Club! Get your tickets at http://www.roarofftheshore.com/ticket.html.
URL:https://luxemburgchamber.com/event/roar-off-the-shore-2025/
LOCATION:Kewaunee County Fairgrounds\, 213 Elm St\, Luxemburg\, WI\, 54217\, United States
CATEGORIES:Local Gatherings
ATTACH;FMTTYPE=image/jpeg:https://luxemburgchamber.com/wp-content/uploads/2025/02/Lions-Logo.jpg
END:VEVENT
BEGIN:VEVENT
DTSTART;TZID=America/Chicago:20250325T120000
DTEND;TZID=America/Chicago:20250325T130000
DTSTAMP:20260423T182439
CREATED:20231227T225253Z
LAST-MODIFIED:20250317T154941Z
UID:1122-1742904000-1742907600@luxemburgchamber.com
SUMMARY:March 2025 Chamber Meeting
DESCRIPTION:All meetings are open to the public. This meeting is at NWTC in Luxemburg.  Meeting begins at 12:00pm Noon. \nCost:  \nNo cost.  Please RSVP by Friday\, March 21st by contacting the Chamber Secretary or filling out the form below: \nPlease enable JavaScript in your browser to complete this form.Please enable JavaScript in your browser to complete this form.Are you able to attend? *YesNoName *FirstLastBusiness or Organization you represent (If applicable)		\n			be guests How\n			\n		\n		How many guests will you be bringing?Just me+1+2+3What discussion topics would be most useful at a chamber meeting?Digital MarketingLocal Partnerships & NetworkingGrants & FundingCommunity DevelopmentSuccession PlanningOtherOther Topic:Submit
URL:https://luxemburgchamber.com/event/march-2025-chamber-meeting/
LOCATION:NWTC Luxemburg\, 133 Commerce Dr\, Luxemburg\, WI\, 54217\, United States
CATEGORIES:Schedule of Events
ATTACH;FMTTYPE=image/jpeg:https://luxemburgchamber.com/wp-content/uploads/2023/12/NWTC-Logo.jpg
END:VEVENT
BEGIN:VEVENT
DTSTART;TZID=America/Chicago:20250225T170000
DTEND;TZID=America/Chicago:20250225T190000
DTSTAMP:20260423T182439
CREATED:20231227T224337Z
LAST-MODIFIED:20250129T165833Z
UID:1120-1740502800-1740510000@luxemburgchamber.com
SUMMARY:February 2025 Chamber Networking Event
DESCRIPTION:Event is open to the public. This networking event is at Scotty’s. Social begins at 5:00pm. \nCost:  \nNo cost to attend.  Please RSVP by Friday\, February 21st by completing the form: \nPlease enable JavaScript in your browser to complete this form.Please enable JavaScript in your browser to complete this form.Are you able to attend? *YesNoName *FirstLastBusiness or Organization you represent (If applicable)		\n			you Business Luxemburg?\n			\n		\n		How many guests will you be bringing?Just me+1+2+3How can your business help another business in Luxemburg?Submit
URL:https://luxemburgchamber.com/event/february-2025-chamber-event/
LOCATION:Scotty’s\, 407 Elm St.\, Luxemburg\, 54217\, United States
CATEGORIES:Local Gatherings,Schedule of Events
ATTACH;FMTTYPE=image/jpeg:https://luxemburgchamber.com/wp-content/uploads/2023/12/scottys-logo.jpg
END:VEVENT
BEGIN:VEVENT
DTSTART;TZID=America/Chicago:20250128T173000
DTEND;TZID=America/Chicago:20250128T193000
DTSTAMP:20260423T182439
CREATED:20230907T170017Z
LAST-MODIFIED:20250129T151403Z
UID:613-1738085400-1738092600@luxemburgchamber.com
SUMMARY:January 2025 Chamber Meeting
DESCRIPTION:All meetings are open to the public. This meeting is at Augie’s Sports Bar & Grill. Social begins at 5:30pm\, dinner is served at 6:00pm. \nCost:  \nDinner is $15 per person.  Please RSVP by Friday\, January 24th by contacting the Chamber Secretary. \nTopic: \nChamber Business: \nSet priorities for 2025\, begin planning events.
URL:https://luxemburgchamber.com/event/january-chamber-meeting/
LOCATION:Augie’s Sports Bar & Grill\, 206 Willow Street\, Luxemburg\, 54217\, United States
CATEGORIES:Schedule of Events
ATTACH;FMTTYPE=image/png:https://luxemburgchamber.com/wp-content/uploads/2023/09/Augies.png
END:VEVENT
END:VCALENDAR