BEGIN:VCALENDAR
VERSION:2.0
PRODID:-//Luxemburg Chamber of Commerce - ECPv6.15.11//NONSGML v1.0//EN
CALSCALE:GREGORIAN
METHOD:PUBLISH
X-WR-CALNAME:Luxemburg Chamber of Commerce
X-ORIGINAL-URL:https://luxemburgchamber.com
X-WR-CALDESC:Events for Luxemburg Chamber of Commerce
REFRESH-INTERVAL;VALUE=DURATION:PT1H
X-Robots-Tag:noindex
X-PUBLISHED-TTL:PT1H
BEGIN:VTIMEZONE
TZID:America/Chicago
BEGIN:DAYLIGHT
TZOFFSETFROM:-0600
TZOFFSETTO:-0500
TZNAME:CDT
DTSTART:20240310T080000
END:DAYLIGHT
BEGIN:STANDARD
TZOFFSETFROM:-0500
TZOFFSETTO:-0600
TZNAME:CST
DTSTART:20241103T070000
END:STANDARD
BEGIN:DAYLIGHT
TZOFFSETFROM:-0600
TZOFFSETTO:-0500
TZNAME:CDT
DTSTART:20250309T080000
END:DAYLIGHT
BEGIN:STANDARD
TZOFFSETFROM:-0500
TZOFFSETTO:-0600
TZNAME:CST
DTSTART:20251102T070000
END:STANDARD
BEGIN:DAYLIGHT
TZOFFSETFROM:-0600
TZOFFSETTO:-0500
TZNAME:CDT
DTSTART:20260308T080000
END:DAYLIGHT
BEGIN:STANDARD
TZOFFSETFROM:-0500
TZOFFSETTO:-0600
TZNAME:CST
DTSTART:20261101T070000
END:STANDARD
END:VTIMEZONE
BEGIN:VEVENT
DTSTART;TZID=America/Chicago:20250930T073000
DTEND;TZID=America/Chicago:20250930T090000
DTSTAMP:20260423T194034
CREATED:20231227T233612Z
LAST-MODIFIED:20250924T203359Z
UID:1140-1759217400-1759222800@luxemburgchamber.com
SUMMARY:September 2025 Chamber Meeting - BREAKFAST
DESCRIPTION:All meetings are open to the public. This meeting is at Rose’s Family Restaurant. Meeting begins at 7:30am\, with breakfast served to order. \nCost: \nBreakfast is on your own.  Please RSVP by filling out the following form: \nPlease enable JavaScript in your browser to complete this form.Please enable JavaScript in your browser to complete this form.Are you able to attend? *YesNoName *FirstLast		\n			many have nominations\n			\n		\n		Business or Organization you represent (If applicable)Do you have any nominations for our annual award winners (Person of the Year & Community Service Award)?How many guests will be attending? *The Chamber will not be collecting a fee\, as members will be free to order off the menu for this meeting.Submit  \nAgenda (Click for PDF):
URL:https://luxemburgchamber.com/event/september-2025-chamber-meeting/
LOCATION:Rose’s Family Restaurant\, 312 Center Drive\, Luxemburg\, WI\, 54217\, United States
CATEGORIES:Schedule of Events
ATTACH;FMTTYPE=image/png:https://luxemburgchamber.com/wp-content/uploads/2023/12/RosesFamilyRestaurant-e1703696579694.png
END:VEVENT
END:VCALENDAR